BEGIN:VCALENDAR
VERSION:2.0
PRODID:-//Drupal//DD Create//EN
METHOD:PUBLISH
BEGIN:VEVENT
UID:dd_create.2343.0
DTSTAMP:20260423T231216Z
DTSTART:20180405T230000Z
DTEND:20180405T230000Z
SUMMARY:Girl's Softball @ Johnson
URL;VALUE=URI:https://www.sthope.org/sac-high-athletic-event/girls-softball-johnson
END:VEVENT
END:VCALENDAR
