BEGIN:VCALENDAR
VERSION:2.0
PRODID:-//Drupal//DD Create//EN
METHOD:PUBLISH
BEGIN:VEVENT
UID:dd_create.2338.0
DTSTAMP:20260423T182656Z
DTSTART:20180315T230000Z
DTEND:20180315T230000Z
SUMMARY:Girl's Softball vs. Kennedy
URL;VALUE=URI:https://www.sthope.org/sac-high-athletic-event/girls-softball-vs-kennedy
END:VEVENT
END:VCALENDAR
