BEGIN:VCALENDAR
VERSION:2.0
PRODID:-//Drupal//DD Create//EN
METHOD:PUBLISH
BEGIN:VEVENT
UID:dd_create.2325.0
DTSTAMP:20260424T043820Z
DTSTART:20180323T230000Z
DTEND:20180323T230000Z
SUMMARY:Boy's Baseball @ Florin
URL;VALUE=URI:https://www.sthope.org/sac-high-athletic-event/boys-baseball-florin
END:VEVENT
END:VCALENDAR
