BEGIN:VCALENDAR
VERSION:2.0
PRODID:-//Drupal//DD Create//EN
METHOD:PUBLISH
BEGIN:VEVENT
UID:dd_create.2323.0
DTSTAMP:20260422T154438Z
DTSTART:20180214T233000Z
DTEND:20180215T003000Z
SUMMARY:Girl's Soccer vs. McClatchy
URL;VALUE=URI:https://www.sthope.org/sac-high-athletic-event/girls-soccer-vs-mcclatchy
END:VEVENT
END:VCALENDAR
