BEGIN:VCALENDAR
VERSION:2.0
PRODID:-//Drupal//DD Create//EN
METHOD:PUBLISH
BEGIN:VEVENT
UID:dd_create.2304.0
DTSTAMP:20260423T180839Z
DTSTART:20170214T010000Z
DTEND:20170214T030000Z
SUMMARY:Black Talk Radio
URL;VALUE=URI:https://www.sthope.org/event/black-talk-radio-10
END:VEVENT
END:VCALENDAR
