BEGIN:VCALENDAR
VERSION:2.0
PRODID:-//Drupal//DD Create//EN
METHOD:PUBLISH
BEGIN:VEVENT
UID:dd_create.2302.0
DTSTAMP:20260422T141343Z
DTSTART:20180223T020000Z
DTEND:20180223T033000Z
SUMMARY:"Somebody's Gotta Say It" - Art Talk with Milton 510 Bowens
URL;VALUE=URI:https://www.sthope.org/event/somebodys-gotta-say-it-art-talk-milton-510-bowens
END:VEVENT
END:VCALENDAR
