BEGIN:VCALENDAR
VERSION:2.0
PRODID:-//Drupal//DD Create//EN
METHOD:PUBLISH
BEGIN:VEVENT
UID:dd_create.2282.0
DTSTAMP:20260419T125327Z
DTSTART:20180125T020000Z
DTEND:20180125T040000Z
SUMMARY:Parent Village 2018
URL;VALUE=URI:https://www.sthope.org/event/parent-village-2018
END:VEVENT
END:VCALENDAR
