BEGIN:VCALENDAR
VERSION:2.0
PRODID:-//Drupal//DD Create//EN
METHOD:PUBLISH
BEGIN:VEVENT
UID:dd_create.2263.0
DTSTAMP:20260423T231256Z
DTSTART:20180225T040000Z
DTEND:20180225T052000Z
SUMMARY:Brandon Hughes' The Absent Father, The Wayward Son
URL;VALUE=URI:https://www.sthope.org/event/brandon-hughes-absent-father-wayward-son-10
END:VEVENT
END:VCALENDAR
