BEGIN:VCALENDAR
VERSION:2.0
PRODID:-//Drupal//DD Create//EN
METHOD:PUBLISH
BEGIN:VEVENT
UID:dd_create.2250.0
DTSTAMP:20260419T175618Z
DTSTART:20171213T013000Z
DTEND:20171213T023000Z
SUMMARY:Executive Committee Meeting 
URL;VALUE=URI:https://www.sthope.org/event/executive-committee-meeting
END:VEVENT
END:VCALENDAR
