BEGIN:VCALENDAR
VERSION:2.0
PRODID:-//Drupal//DD Create//EN
METHOD:PUBLISH
BEGIN:VEVENT
UID:dd_create.2248.0
DTSTAMP:20260423T151328Z
DTSTART:20171227T080000Z
DTEND:20171230T080000Z
SUMMARY:St. HOPE Elite Hoop Classic
URL;VALUE=URI:https://www.sthope.org/event/st-hope-elite-hoop-classic-0
END:VEVENT
END:VCALENDAR
