BEGIN:VCALENDAR
VERSION:2.0
PRODID:-//Drupal//DD Create//EN
METHOD:PUBLISH
BEGIN:VEVENT
UID:dd_create.2227.0
DTSTAMP:20260422T114340Z
DTSTART:20180201T030000Z
DTEND:20180201T043000Z
SUMMARY:Boy's Basketball vs. Florin
URL;VALUE=URI:https://www.sthope.org/sac-high-athletic-event/boys-basketball-vs-florin
END:VEVENT
END:VCALENDAR
