BEGIN:VCALENDAR
VERSION:2.0
PRODID:-//Drupal//DD Create//EN
METHOD:PUBLISH
BEGIN:VEVENT
UID:dd_create.2222.0
DTSTAMP:20260424T043758Z
DTSTART:20180113T030000Z
DTEND:20180113T043000Z
SUMMARY:Boy's Basketball vs. Burbank
URL;VALUE=URI:https://www.sthope.org/sac-high-athletic-event/boys-basketball-vs-burbank
END:VEVENT
END:VCALENDAR
