BEGIN:VCALENDAR
VERSION:2.0
PRODID:-//Drupal//DD Create//EN
METHOD:PUBLISH
BEGIN:VEVENT
UID:dd_create.2216.0
DTSTAMP:20260424T001622Z
DTSTART:20171210T213000Z
DTEND:20171210T233000Z
SUMMARY:5th Annual "La Pastorela de Sacramento" Holiday Musical 
URL;VALUE=URI:https://www.sthope.org/event/5th-annual-la-pastorela-de-sacramento-holiday-musical-2
END:VEVENT
END:VCALENDAR
