BEGIN:VCALENDAR
VERSION:2.0
PRODID:-//Drupal//DD Create//EN
METHOD:PUBLISH
BEGIN:VEVENT
UID:dd_create.2192.0
DTSTAMP:20260419T125500Z
DTSTART:20180201T030000Z
DTEND:20180201T043000Z
SUMMARY:Girl's Basketball @ Florin
URL;VALUE=URI:https://www.sthope.org/sac-high-athletic-event/girls-basketball-florin
END:VEVENT
END:VCALENDAR
