BEGIN:VCALENDAR
VERSION:2.0
PRODID:-//Drupal//DD Create//EN
METHOD:PUBLISH
BEGIN:VEVENT
UID:dd_create.2186.0
DTSTAMP:20260423T231759Z
DTSTART:20180111T030000Z
DTEND:20180111T043000Z
SUMMARY:Girl's Basketball @ Laguna Creek
URL;VALUE=URI:https://www.sthope.org/sac-high-athletic-event/girls-basketball-laguna-creek
END:VEVENT
END:VCALENDAR
