BEGIN:VCALENDAR
VERSION:2.0
PRODID:-//Drupal//DD Create//EN
METHOD:PUBLISH
BEGIN:VEVENT
UID:dd_create.2185.0
DTSTAMP:20260423T182502Z
DTSTART:20171216T030000Z
DTEND:20171216T043000Z
SUMMARY:Girl's Basketball vs. Florin
URL;VALUE=URI:https://www.sthope.org/sac-high-athletic-event/girls-basketball-vs-florin
END:VEVENT
END:VCALENDAR
