BEGIN:VCALENDAR
VERSION:2.0
PRODID:-//Drupal//DD Create//EN
METHOD:PUBLISH
BEGIN:VEVENT
UID:dd_create.2179.0
DTSTAMP:20260421T144900Z
DTSTART:20171202T200000Z
DTEND:20171202T220000Z
SUMMARY:Underground Books Book Club Discussion
URL;VALUE=URI:https://www.sthope.org/event/underground-books-book-club-discussion-1
END:VEVENT
END:VCALENDAR
