BEGIN:VCALENDAR
VERSION:2.0
PRODID:-//Drupal//DD Create//EN
METHOD:PUBLISH
BEGIN:VEVENT
UID:dd_create.2178.0
DTSTAMP:20260420T221559Z
DTSTART:20171221T020000Z
DTEND:20171221T040000Z
SUMMARY:Damian Chandler "The Crooked Christmas Tree"
URL;VALUE=URI:https://www.sthope.org/event/damian-chandler-crooked-christmas-tree
END:VEVENT
END:VCALENDAR
