BEGIN:VCALENDAR
VERSION:2.0
PRODID:-//Drupal//DD Create//EN
METHOD:PUBLISH
BEGIN:VEVENT
UID:dd_create.2159.0
DTSTAMP:20260423T151359Z
DTSTART:20171029T230000Z
DTEND:20171030T010000Z
SUMMARY:Moore Musicals Presents: Peter Pan Jr.
URL;VALUE=URI:https://www.sthope.org/event/moore-musicals-presents-peter-pan-jr-0
END:VEVENT
END:VCALENDAR
