BEGIN:VCALENDAR
VERSION:2.0
PRODID:-//Drupal//DD Create//EN
METHOD:PUBLISH
BEGIN:VEVENT
UID:dd_create.2101.0
DTSTAMP:20260423T151639Z
DTSTART:20171011T000000Z
DTEND:20171011T020000Z
SUMMARY:Black Talk Radio
URL;VALUE=URI:https://www.sthope.org/event/black-talk-radio-8
END:VEVENT
END:VCALENDAR
