BEGIN:VCALENDAR
VERSION:2.0
PRODID:-//Drupal//DD Create//EN
METHOD:PUBLISH
BEGIN:VEVENT
UID:dd_create.2090.0
DTSTAMP:20260424T095654Z
DTSTART:20170919T233000Z
DTEND:20170920T003000Z
SUMMARY:SHPS Audit/Finance Committee Meeting 
URL;VALUE=URI:https://www.sthope.org/event/shps-auditfinance-committee-meeting
END:VEVENT
END:VCALENDAR
