BEGIN:VCALENDAR
VERSION:2.0
PRODID:-//Drupal//DD Create//EN
METHOD:PUBLISH
BEGIN:VEVENT
UID:dd_create.2087.0
DTSTAMP:20260420T020225Z
DTSTART:20171118T220000Z
DTEND:20171119T000000Z
SUMMARY:Janay Brown Wood "Grandma's Tiny House"
URL;VALUE=URI:https://www.sthope.org/event/janay-brown-wood-grandmas-tiny-house
END:VEVENT
END:VCALENDAR
