BEGIN:VCALENDAR
VERSION:2.0
PRODID:-//Drupal//DD Create//EN
METHOD:PUBLISH
BEGIN:VEVENT
UID:dd_create.2079.0
DTSTAMP:20260424T001641Z
DTSTART:20171025T010000Z
DTEND:20171025T020000Z
SUMMARY:Women's Volleyball vs. Johnson
URL;VALUE=URI:https://www.sthope.org/sac-high-athletic-event/womens-volleyball-vs-johnson-0
END:VEVENT
END:VCALENDAR
