BEGIN:VCALENDAR
VERSION:2.0
PRODID:-//Drupal//DD Create//EN
METHOD:PUBLISH
BEGIN:VEVENT
UID:dd_create.2075.0
DTSTAMP:20260425T171009Z
DTSTART:20171011T010000Z
DTEND:20171011T020000Z
SUMMARY:Women's Volleyball at Florin
URL;VALUE=URI:https://www.sthope.org/sac-high-athletic-event/womens-volleyball-florin
END:VEVENT
END:VCALENDAR
