BEGIN:VCALENDAR
VERSION:2.0
PRODID:-//Drupal//DD Create//EN
METHOD:PUBLISH
BEGIN:VEVENT
UID:dd_create.2062.0
DTSTAMP:20260422T192054Z
DTSTART:20170927T223000Z
DTEND:20170928T013000Z
SUMMARY:Women's Golf vs. Laguna Creek High School
URL;VALUE=URI:https://www.sthope.org/sac-high-athletic-event/womens-golf-vs-laguna-creek-high-school
END:VEVENT
END:VCALENDAR
