BEGIN:VCALENDAR
VERSION:2.0
PRODID:-//Drupal//DD Create//EN
METHOD:PUBLISH
BEGIN:VEVENT
UID:dd_create.2060.0
DTSTAMP:20260422T003647Z
DTSTART:20170920T223000Z
DTEND:20170921T013000Z
SUMMARY:Women's Golf @ Kennedy High School
URL;VALUE=URI:https://www.sthope.org/sac-high-athletic-event/womens-golf-kennedy-high-school
END:VEVENT
END:VCALENDAR
