BEGIN:VCALENDAR
VERSION:2.0
PRODID:-//Drupal//DD Create//EN
METHOD:PUBLISH
BEGIN:VEVENT
UID:dd_create.2058.0
DTSTAMP:20260421T151758Z
DTSTART:20170913T223000Z
DTEND:20170914T013000Z
SUMMARY:Women's Golf vs. Valley High School
URL;VALUE=URI:https://www.sthope.org/sac-high-athletic-event/womens-golf-vs-valley-high-school
END:VEVENT
END:VCALENDAR
