BEGIN:VCALENDAR
VERSION:2.0
PRODID:-//Drupal//DD Create//EN
METHOD:PUBLISH
BEGIN:VEVENT
UID:dd_create.2041.0
DTSTAMP:20260419T151457Z
DTSTART:20171104T010000Z
DTEND:20171104T030000Z
SUMMARY:Pamela Samuels Young "Abuse of Discretion"
URL;VALUE=URI:https://www.sthope.org/event/pamela-samuels-young-abuse-discretion
END:VEVENT
END:VCALENDAR
