BEGIN:VCALENDAR
VERSION:2.0
PRODID:-//Drupal//DD Create//EN
METHOD:PUBLISH
BEGIN:VEVENT
UID:dd_create.2039.0
DTSTAMP:20260422T113818Z
DTSTART:20170930T210000Z
DTEND:20170930T230000Z
SUMMARY:Clifton L. West III "Of Life and Time"
URL;VALUE=URI:https://www.sthope.org/event/clifton-l-west-iii-life-and-time
END:VEVENT
END:VCALENDAR
