BEGIN:VCALENDAR
VERSION:2.0
PRODID:-//Drupal//DD Create//EN
METHOD:PUBLISH
BEGIN:VEVENT
UID:dd_create.2033.0
DTSTAMP:20260423T181730Z
DTSTART:20170901T010000Z
DTEND:20170901T023000Z
SUMMARY:Wilmer J. Leon III, PhD "Politics: Another Perspective"
URL;VALUE=URI:https://www.sthope.org/event/wilmer-j-leon-iii-phd-politics-another-perspective
END:VEVENT
END:VCALENDAR
