BEGIN:VCALENDAR
VERSION:2.0
PRODID:-//Drupal//DD Create//EN
METHOD:PUBLISH
BEGIN:VEVENT
UID:dd_create.2023.0
DTSTAMP:20260420T180319Z
DTSTART:20170818T070000Z
DTEND:20170818T070000Z
SUMMARY:"Triangles and Terrible Times" 
URL;VALUE=URI:https://www.sthope.org/event/triangles-and-terrible-times
END:VEVENT
END:VCALENDAR
