BEGIN:VCALENDAR
VERSION:2.0
PRODID:-//Drupal//DD Create//EN
METHOD:PUBLISH
BEGIN:VEVENT
UID:dd_create.1952.0
DTSTAMP:20260422T221804Z
DTSTART:20170613T220000Z
DTEND:20170614T003000Z
SUMMARY:9th Grade Placement Testing 
URL;VALUE=URI:https://www.sthope.org/event/9th-grade-placement-testing
END:VEVENT
BEGIN:VEVENT
UID:dd_create.1952.1
DTSTAMP:20260422T221804Z
DTSTART:20170620T150000Z
DTEND:20170620T173000Z
SUMMARY:9th Grade Placement Testing 
URL;VALUE=URI:https://www.sthope.org/event/9th-grade-placement-testing
END:VEVENT
END:VCALENDAR
