BEGIN:VCALENDAR
VERSION:2.0
PRODID:-//Drupal//DD Create//EN
METHOD:PUBLISH
BEGIN:VEVENT
UID:dd_create.1949.0
DTSTAMP:20260422T114427Z
DTSTART:20170923T190000Z
DTEND:20170923T200000Z
SUMMARY:Children's Storytime
URL;VALUE=URI:https://www.sthope.org/event/childrens-storytime-9
END:VEVENT
END:VCALENDAR
