BEGIN:VCALENDAR
VERSION:2.0
PRODID:-//Drupal//DD Create//EN
METHOD:PUBLISH
BEGIN:VEVENT
UID:dd_create.1885.0
DTSTAMP:20260425T131641Z
DTSTART:20170325T010000Z
DTEND:20170325T030000Z
SUMMARY:TK-12 Student Admission Lottery
URL;VALUE=URI:https://www.sthope.org/event/tk-12-student-admission-lottery
END:VEVENT
END:VCALENDAR
