BEGIN:VCALENDAR
VERSION:2.0
PRODID:-//Drupal//DD Create//EN
METHOD:PUBLISH
BEGIN:VEVENT
UID:dd_create.1830.0
DTSTAMP:20260423T131548Z
DTSTART:20170321T070000Z
DTEND:20170321T070000Z
SUMMARY:Sac High Softball vs. Laguna
URL;VALUE=URI:https://www.sthope.org/event/sac-high-softball-vs-laguna-0
END:VEVENT
END:VCALENDAR
