BEGIN:VCALENDAR
VERSION:2.0
PRODID:-//Drupal//DD Create//EN
METHOD:PUBLISH
BEGIN:VEVENT
UID:dd_create.1829.0
DTSTAMP:20260426T011836Z
DTSTART:20170316T070000Z
DTEND:20170316T070000Z
SUMMARY:Sac High Softball at Florin
URL;VALUE=URI:https://www.sthope.org/event/sac-high-softball-florin
END:VEVENT
END:VCALENDAR
