BEGIN:VCALENDAR
VERSION:2.0
PRODID:-//Drupal//DD Create//EN
METHOD:PUBLISH
BEGIN:VEVENT
UID:dd_create.1761.0
DTSTAMP:20260423T201055Z
DTSTART:20170126T080000Z
DTEND:20170126T080000Z
SUMMARY:Greenprint Summit 2017
URL;VALUE=URI:https://www.sthope.org/event/greenprint-summit-2017
END:VEVENT
END:VCALENDAR
