BEGIN:VCALENDAR
VERSION:2.0
PRODID:-//Drupal//DD Create//EN
METHOD:PUBLISH
BEGIN:VEVENT
UID:dd_create.1740.0
DTSTAMP:20260423T213637Z
DTSTART:20170128T030000Z
DTEND:20170128T043000Z
SUMMARY:Sac High Girls Basketball at Kennedy
URL;VALUE=URI:https://www.sthope.org/event/sac-high-girls-basketball-kennedy
END:VEVENT
END:VCALENDAR
