BEGIN:VCALENDAR
VERSION:2.0
PRODID:-//Drupal//DD Create//EN
METHOD:PUBLISH
BEGIN:VEVENT
UID:dd_create.1738.0
DTSTAMP:20260423T043850Z
DTSTART:20170124T030000Z
DTEND:20170124T043000Z
SUMMARY:Sac High Girls Soccer vs. Burbank
URL;VALUE=URI:https://www.sthope.org/event/sac-high-girls-soccer-vs-burbank-0
END:VEVENT
END:VCALENDAR
