BEGIN:VCALENDAR
VERSION:2.0
PRODID:-//Drupal//DD Create//EN
METHOD:PUBLISH
BEGIN:VEVENT
UID:dd_create.1736.0
DTSTAMP:20260423T181740Z
DTSTART:20170215T233000Z
DTEND:20170216T003000Z
SUMMARY:Sac High Boys Soccer at McClatchy
URL;VALUE=URI:https://www.sthope.org/event/sac-high-boys-soccer-mcclatchy
END:VEVENT
END:VCALENDAR
