BEGIN:VCALENDAR
VERSION:2.0
PRODID:-//Drupal//DD Create//EN
METHOD:PUBLISH
BEGIN:VEVENT
UID:dd_create.1734.0
DTSTAMP:20260420T180702Z
DTSTART:20170208T220000Z
DTEND:20170208T230000Z
SUMMARY:Sac High Boys Soccer at Valley
URL;VALUE=URI:https://www.sthope.org/event/sac-high-boys-soccer-valley
END:VEVENT
END:VCALENDAR
