BEGIN:VCALENDAR
VERSION:2.0
PRODID:-//Drupal//DD Create//EN
METHOD:PUBLISH
BEGIN:VEVENT
UID:dd_create.1707.0
DTSTAMP:20260421T102133Z
DTSTART:20170202T030000Z
DTEND:20170202T043000Z
SUMMARY:Sac High Boys Basketball vs. Florin
URL;VALUE=URI:https://www.sthope.org/event/sac-high-boys-basketball-vs-florin
END:VEVENT
END:VCALENDAR
