BEGIN:VCALENDAR
VERSION:2.0
PRODID:-//Drupal//DD Create//EN
METHOD:PUBLISH
BEGIN:VEVENT
UID:dd_create.1706.0
DTSTAMP:20260423T201418Z
DTSTART:20170128T030000Z
DTEND:20170128T043000Z
SUMMARY:Sac High Boys Basketball vs. Kennedy
URL;VALUE=URI:https://www.sthope.org/event/sac-high-boys-basketball-vs-kennedy
END:VEVENT
END:VCALENDAR
