BEGIN:VCALENDAR
VERSION:2.0
PRODID:-//Drupal//DD Create//EN
METHOD:PUBLISH
BEGIN:VEVENT
UID:dd_create.1693.0
DTSTAMP:20260423T201537Z
DTSTART:20170121T200000Z
DTEND:20170121T210000Z
SUMMARY:Book Club Meeting
URL;VALUE=URI:https://www.sthope.org/event/book-club-meeting
END:VEVENT
END:VCALENDAR
