BEGIN:VCALENDAR
VERSION:2.0
PRODID:-//Drupal//DD Create//EN
METHOD:PUBLISH
BEGIN:VEVENT
UID:dd_create.1655.0
DTSTAMP:20260421T092816Z
DTSTART:20161202T080000Z
DTEND:20161209T080000Z
SUMMARY:Parent Survey
URL;VALUE=URI:https://www.sthope.org/event/parent-survey
END:VEVENT
END:VCALENDAR
