BEGIN:VCALENDAR
VERSION:2.0
PRODID:-//Drupal//DD Create//EN
METHOD:PUBLISH
BEGIN:VEVENT
UID:dd_create.1640.0
DTSTAMP:20260422T060322Z
DTSTART:20161210T220000Z
DTEND:20161211T000000Z
SUMMARY:Discussion and Book Signing with Doris Mangrum
URL;VALUE=URI:https://www.sthope.org/event/discussion-and-book-signing-doris-mangrum
END:VEVENT
END:VCALENDAR
