BEGIN:VCALENDAR
VERSION:2.0
PRODID:-//Drupal//DD Create//EN
METHOD:PUBLISH
BEGIN:VEVENT
UID:dd_create.1631.0
DTSTAMP:20260422T050551Z
DTSTART:20161111T020000Z
DTEND:20161111T040000Z
SUMMARY:Sesión de Información de Sac High para padres 
URL;VALUE=URI:https://www.sthope.org/event/sesion-de-informacion-de-sac-high-para-padres
END:VEVENT
END:VCALENDAR
