BEGIN:VCALENDAR
VERSION:2.0
PRODID:-//Drupal//DD Create//EN
METHOD:PUBLISH
BEGIN:VEVENT
UID:dd_create.1616.0
DTSTAMP:20260422T110359Z
DTSTART:20161209T040000Z
DTEND:20161209T050000Z
SUMMARY: Votes to Approve the PS7 and Sac High Charters
URL;VALUE=URI:https://www.sthope.org/event/votes-approve-ps7-and-sac-high-charters
END:VEVENT
END:VCALENDAR
