BEGIN:VCALENDAR
VERSION:2.0
PRODID:-//Drupal//DD Create//EN
METHOD:PUBLISH
BEGIN:VEVENT
UID:dd_create.1614.0
DTSTAMP:20260423T180727Z
DTSTART:20161105T190000Z
DTEND:20161105T203000Z
SUMMARY:underground books book club
URL;VALUE=URI:https://www.sthope.org/event/underground-books-book-club
END:VEVENT
END:VCALENDAR
