BEGIN:VCALENDAR
VERSION:2.0
PRODID:-//Drupal//DD Create//EN
METHOD:PUBLISH
BEGIN:VEVENT
UID:dd_create.1547.0
DTSTAMP:20260422T224010Z
DTSTART:20161003T070000Z
DTEND:20161003T070000Z
SUMMARY:Closed for Professional Development 
URL;VALUE=URI:https://www.sthope.org/event/closed-professional-development
END:VEVENT
END:VCALENDAR
